BEGIN:VCALENDAR
VERSION:2.0
PRODID:-//Eventin//Event Calendar//EN
CALSCALE:GREGORIAN
METHOD:PUBLISH
BEGIN:VEVENT
UID:c5a72209194a83e53479f99a929f08d4@fcaap.com.br
SUMMARY:ANIVERSÁRIO DE 01 ANO DA FEDERAÇÃO
DESCRIPTION:Dia 30/06 a federação de capoeira do Amapá FCA completa 1 an
 o de atividades no .\nHaverá roda de comemoração no centro de cultura ne
 gra do Amapa. (UNA)
LOCATION:Online
DTSTAMP:20260423T144301Z
DTSTART:20240630T030000Z
DTEND:20260423T144301Z
END:VEVENT
END:VCALENDAR
