BEGIN:VCALENDAR
VERSION:2.0
PRODID:-//Eventin//Event Calendar//EN
CALSCALE:GREGORIAN
METHOD:PUBLISH
BEGIN:VEVENT
UID:408969eb7f2aae2feb992056ffe07423@fcaap.com.br
SUMMARY:POSSE DO CONSELHO DE MESTRES
DESCRIPTION:DIA 05 DE ABRIL - POSSE DO CONSELHO DE MESTRES
LOCATION:Online
DTSTAMP:20260423T162324Z
DTSTART:20240405T030000Z
DTEND:20260423T162324Z
END:VEVENT
END:VCALENDAR
