BEGIN:VCALENDAR
VERSION:2.0
PRODID:-//Eventin//Event Calendar//EN
CALSCALE:GREGORIAN
METHOD:PUBLISH
BEGIN:VEVENT
UID:3921be35c07c721e7c89bc605d86bd7f@fcaap.com.br
SUMMARY:DIA ESTADUAL DO CAPOEIRISTA
DESCRIPTION:DIA 30 DE JUNHO - DIA ESTADUAL DO CAPOEIRISTA
LOCATION:Online
DTSTAMP:20260423T144515Z
DTSTART:20240630T030000Z
DTEND:20260423T144515Z
END:VEVENT
END:VCALENDAR
